BEGIN:VCALENDAR
VERSION:2.0
PRODID:-//Louis Gebel - ECPv6.15.20//NONSGML v1.0//EN
CALSCALE:GREGORIAN
METHOD:PUBLISH
X-WR-CALNAME:Louis Gebel
X-ORIGINAL-URL:http://louisgebel.com
X-WR-CALDESC:Veranstaltungen für Louis Gebel
REFRESH-INTERVAL;VALUE=DURATION:PT1H
X-Robots-Tag:noindex
X-PUBLISHED-TTL:PT1H
BEGIN:VTIMEZONE
TZID:UTC
BEGIN:STANDARD
TZOFFSETFROM:+0000
TZOFFSETTO:+0000
TZNAME:UTC
DTSTART:20220101T000000
END:STANDARD
END:VTIMEZONE
BEGIN:VEVENT
DTSTART;TZID=UTC:20251205T180000
DTEND;TZID=UTC:20251205T200000
DTSTAMP:20260419T145944
CREATED:20251119T104925Z
LAST-MODIFIED:20251119T104925Z
UID:600-1764957600-1764964800@louisgebel.com
SUMMARY:Zwickauer Schlossweihnacht 2025
DESCRIPTION:Die Zwickauer Schlossweihnacht ruft – und ich bin wieder dabei! Bereits zum dritten Mal freue ich mich darauf\, euch mit einem Mix aus Weihnachtsliedern\, eigenen Songs und beliebten Covers in Weihnachtsstimmung zu bringen.
URL:http://louisgebel.com/event/zwickauer-schlossweihnacht-2025/
LOCATION:Zwickauer Schlossweihnacht 2025\, Schlossgrabenweg 1\, Zwickau\, Sachsen\, 08056\, Germany
END:VEVENT
BEGIN:VEVENT
DTSTART;TZID=UTC:20251127T190000
DTEND;TZID=UTC:20251127T220000
DTSTAMP:20260419T145944
CREATED:20251119T110450Z
LAST-MODIFIED:20251119T110450Z
UID:620-1764270000-1764280800@louisgebel.com
SUMMARY:Supportact für "Liebestrunken"
DESCRIPTION:Gemeinsam mit Fia Silena darf ich den Support für Liebestrunken spielen.\nIch bringe eine paar eigene\, bislang unveröffentlichte Songs mit. \nDas wird ein toller Abend\, komm gerne vorbei!
URL:http://louisgebel.com/event/supportact-fuer-liebestrunken/
LOCATION:Engelsburg\, Clara-Zetkin Strasse 2\, Erfurt\, Thüringen\, 99084\, Germany
END:VEVENT
BEGIN:VEVENT
DTSTART;TZID=UTC:20251115T200000
DTEND;TZID=UTC:20251115T220000
DTSTAMP:20260419T145944
CREATED:20251008T133505Z
LAST-MODIFIED:20251019T170621Z
UID:594-1763236800-1763244000@louisgebel.com
SUMMARY:Fia Silena and Friends
DESCRIPTION:Dieses Konzert wird für mich etwas ganz Besonderes: Neben meiner Rolle als Gitarrist für Fia Silena darf ich zwei eigene\, noch unveröffentlichte Songs präsentieren.\nFreut euch auf einen bunten Abend voller Musik und großartiger Künstler/-innen.\nHolt euch ein Ticket und seid dabei!
URL:http://louisgebel.com/event/fia-silena-and-friends/
LOCATION:Mon Ami\, Goethepl. 11\, Weimar\, Thüringen\, 99423\, Germany
END:VEVENT
BEGIN:VEVENT
DTSTART;TZID=UTC:20240831T160000
DTEND;TZID=UTC:20240831T170000
DTSTAMP:20260419T145944
CREATED:20240424T124107Z
LAST-MODIFIED:20240424T124107Z
UID:581-1725120000-1725123600@louisgebel.com
SUMMARY:Festwochenende "700 Jahre Ebersdorf"
DESCRIPTION:
URL:http://louisgebel.com/event/festwochenende-700-jahre-ebersdorf/
LOCATION:Festgelände Lichtenauer Straße\, Lichtenauer Straße 45\, Chemnitz\, Sachsen\, 09131\, Deutschland
END:VEVENT
BEGIN:VEVENT
DTSTART;TZID=UTC:20240602T180000
DTEND;TZID=UTC:20240602T220000
DTSTAMP:20260419T145944
CREATED:20240424T123447Z
LAST-MODIFIED:20240424T123447Z
UID:577-1717351200-1717365600@louisgebel.com
SUMMARY:Scott Bricklin & CHIMPANZEE - Doppelkonzert
DESCRIPTION:Auf diesem Doppelkonzerte spiele ich gemeinsam mit CHIMPANZEE. \n 
URL:http://louisgebel.com/event/scott-bricklin-chimpanzee-doppelkonzert/
LOCATION:Priems Weindepot\, Mozartstraße 4\, Altenburg\, Sachsen\, 04600\, Deutschland
END:VEVENT
BEGIN:VEVENT
DTSTART;TZID=UTC:20240519T193000
DTEND;TZID=UTC:20240519T210000
DTSTAMP:20260419T145944
CREATED:20240505T121715Z
LAST-MODIFIED:20240519T104402Z
UID:587-1716147000-1716152400@louisgebel.com
SUMMARY:Konzert am Hainer See
DESCRIPTION:
URL:http://louisgebel.com/event/587/
LOCATION:Opener Open Air Saison am Hainer See\, Ferienhaus Seebrise 8\, Neukieritzsch\, Sachsen\, 04575\, Deutschland
END:VEVENT
BEGIN:VEVENT
DTSTART;TZID=UTC:20240518T180000
DTEND;TZID=UTC:20240518T190000
DTSTAMP:20260419T145944
CREATED:20240424T122456Z
LAST-MODIFIED:20240424T122456Z
UID:573-1716055200-1716058800@louisgebel.com
SUMMARY:Rock Classics - Pfingsten 2024
DESCRIPTION:
URL:http://louisgebel.com/event/rock-classics-pfingsten-2024/
LOCATION:Göltzschtalbrücke\, Brückenstraße 1\, Netzschkau\, Sachsen\, 08491\, Deutschland
END:VEVENT
BEGIN:VEVENT
DTSTART;TZID=UTC:20230822T170000
DTEND;TZID=UTC:20230822T180000
DTSTAMP:20260419T145944
CREATED:20230808T112539Z
LAST-MODIFIED:20230808T112539Z
UID:308-1692723600-1692727200@louisgebel.com
SUMMARY:Straßenmusik
DESCRIPTION:Kommt gerne vorbei.
URL:http://louisgebel.com/event/strassenmusik/
LOCATION:Krämerbrücke\, Krämerbrücke\, Erfurt\, Thüringen\, 99084\, Deutschland
CATEGORIES:Straßenmusik
ATTACH;FMTTYPE=image/jpeg:http://louisgebel.com/wp-content/uploads/2023/08/IMG_2120-scaled.jpg
END:VEVENT
END:VCALENDAR